BEGIN:VCALENDAR
VERSION:2.0
PRODID:-//Stratis iCal API//FR
CALSCALE:GREGORIAN
X-WR-CALNAME:FESTI'MÔMES «Le Dékoncert»
BEGIN:VEVENT
UID:event-6171
SUMMARY:FESTI'MÔMES «Le Dékoncert»
DESCRIPTION:Ces deux artistes vont vous surprendre. Tantôt musiciens  tantôt circassiens  parfois augustes et parfois clowns blancs  les rôles s’inversent tout au long de ce concert-spectacle.
DTSTAMP:20251127T145506Z
DTSTART:20260425T220000Z
DTEND:20260425T220000Z
STATUS:CONFIRMED
SEQUENCE:1
BEGIN:VALARM
TRIGGER:-PT30M
DESCRIPTION:FESTI'MÔMES «Le Dékoncert»
ACTION:DISPLAY
END:VALARM
END:VEVENT
END:VCALENDAR