BEGIN:VCALENDAR
VERSION:2.0
PRODID:-//Stratis iCal API//FR
CALSCALE:GREGORIAN
X-WR-CALNAME:Projection - Des étoiles aux trous noirs, l'Univers invisible dévoilé
BEGIN:VEVENT
UID:event-6179
SUMMARY:Projection - Des étoiles aux trous noirs  l'Univers invisible dévoilé
DESCRIPTION:Depuis plus de 400 ans l'observation du ciel se fait avec notamment des télescopes  qui captent la lumière visible de manière plus efficace et plus sensible que l'oeil humain.
DTSTAMP:20251128T145507Z
DTSTART:20260416T150000Z
DTEND:20260416T161000Z
STATUS:CONFIRMED
SEQUENCE:1
BEGIN:VALARM
TRIGGER:-PT30M
DESCRIPTION:Projection - Des étoiles aux trous noirs  l'Univers invisible dévoilé
ACTION:DISPLAY
END:VALARM
END:VEVENT
END:VCALENDAR