BEGIN:VCALENDAR
VERSION:2.0
PRODID:-//Stratis iCal API//FR
CALSCALE:GREGORIAN
X-WR-CALNAME:Animations aux jardins Peyrard
BEGIN:VEVENT
UID:event-6975
SUMMARY:Animations aux jardins Peyrard
DESCRIPTION:Venez cultiver la ville avec nous ! La ferme en chantier vous invite à une journée d'animation festive dans les nouveaux jardins Peyrard à la Cotonne.
DTSTAMP:20260422T010001Z
DTSTART:20260425T130000Z
DTEND:20260424T220000Z
STATUS:CONFIRMED
SEQUENCE:1
BEGIN:VALARM
TRIGGER:-PT30M
DESCRIPTION:Animations aux jardins Peyrard
ACTION:DISPLAY
END:VALARM
END:VEVENT
END:VCALENDAR